BEGIN:VCALENDAR
VERSION:2.0
PRODID:-//pretix//pretix.eu//
BEGIN:VTIMEZONE
TZID:Europe/Berlin
BEGIN:STANDARD
DTSTART:20001029T040000
RRULE:FREQ=YEARLY;BYDAY=-1SU;BYMONTH=10
TZNAME:CET
TZOFFSETFROM:+0200
TZOFFSETTO:+0100
END:STANDARD
BEGIN:DAYLIGHT
DTSTART:20000326T030000
RRULE:FREQ=YEARLY;BYDAY=-1SU;BYMONTH=3
TZNAME:CEST
TZOFFSETFROM:+0100
TZOFFSETTO:+0200
END:DAYLIGHT
END:VTIMEZONE
BEGIN:VEVENT
UID:pretix-kulturhof-sommernachtstraum-3747304@shop.kulturhof-langenzenn.de
DTSTART;TZID=Europe/Berlin:20230705T193000
DTEND;TZID=Europe/Berlin:20230705T213000
DESCRIPTION:Tickets: https://shop.kulturhof-langenzenn.de/sommernachtstraum
 /3747304/\nEinlass: 05.07.2023 18:00\nVeranstalter: Kulturhof Langenzenn
DTSTAMP:20260423T192105Z
LOCATION:Kulturhof Langenzenn\, - Freilichtbühne -\, Alte Zennstraße 13\,
  90579 Langenzenn
SUMMARY:Ein (fränkischer) Sommernachtstraum
END:VEVENT
END:VCALENDAR
